BEGIN:VCALENDAR
VERSION:2.0
PRODID:-//care-help.org//NONSGML kigkonsult.se iCalcreator 2.30.10//
CALSCALE:GREGORIAN
METHOD:PUBLISH
UID:51018f5a-163f-4bfc-a951-f4f87c094c02
X-WR-CALDESC:
X-WR-RELCALID:fa351647135722d1ff31b223c011bb21
X-WR-TIMEZONE:America/Chicago
BEGIN:VTIMEZONE
TZID:America/Chicago
BEGIN:STANDARD
TZNAME:CST
DTSTART:20251102T020000
TZOFFSETFROM:-0500
TZOFFSETTO:-0600
RDATE:20261101T020000
END:STANDARD
BEGIN:DAYLIGHT
TZNAME:CDT
DTSTART:20260308T020000
TZOFFSETFROM:-0600
TZOFFSETTO:-0500
RDATE:20270314T020000
END:DAYLIGHT
END:VTIMEZONE
BEGIN:VEVENT
UID:e9a3b5ed-6fdb-44ae-bab5-c638305baa4b
DTSTAMP:20260420T052101Z
DESCRIPTION:
DTSTART;TZID=America/Chicago:20260425T090000
DTEND;TZID=America/Chicago:20260425T160000
LOCATION:200 N. Huntington Street\, Sulphur\, LA 70663 US
SUMMARY:Our thrift store is now open on Saturdays 9:00am-4:00pm\, donations
  are 8:00am-3:30pm back parking lot
END:VEVENT
END:VCALENDAR
