BEGIN:VCALENDAR
VERSION:2.0
PRODID:-//care-help.org//NONSGML kigkonsult.se iCalcreator 2.30.10//
CALSCALE:GREGORIAN
METHOD:PUBLISH
UID:9bcc6f1d-32f1-4b3e-a29b-da7d7b05fd74
X-WR-CALDESC:10% off purchases in the Care Help Thrift store for persons 55
  and up. (Must show valid picture ID.)
X-WR-RELCALID:5b7ee40446e5ff01da35e7751951ce63
X-WR-TIMEZONE:America/Chicago
BEGIN:VTIMEZONE
TZID:America/Chicago
BEGIN:STANDARD
TZNAME:CST
DTSTART:20271107T020000
TZOFFSETFROM:-0500
TZOFFSETTO:-0600
RDATE:20281105T020000
END:STANDARD
BEGIN:DAYLIGHT
TZNAME:CDT
DTSTART:20270314T020000
TZOFFSETFROM:-0600
TZOFFSETTO:-0500
RDATE:20280312T020000
RDATE:20290311T020000
END:DAYLIGHT
END:VTIMEZONE
BEGIN:VEVENT
UID:83027fde-d941-4376-be2c-56fd711bacb5
DTSTAMP:20260420T084948Z
DESCRIPTION:10% off purchases in the Care Help Thrift store for persons 55 
 and up. (Must show valid picture ID.)
DTSTART;TZID=America/Chicago:20271202T100000
DTEND;TZID=America/Chicago:20271202T170000
LOCATION:200 N. Huntington\, Sulphur\, LA 70663 US
SUMMARY:Senior Citizen's Day 10% off
END:VEVENT
END:VCALENDAR
