BEGIN:VCALENDAR
VERSION:2.0
PRODID:-//care-help.org//NONSGML kigkonsult.se iCalcreator 2.30.10//
CALSCALE:GREGORIAN
METHOD:PUBLISH
UID:6f1577f8-bfab-4afc-897a-8b7f37bb3089
X-WR-CALDESC:10% off purchases in the Care Help Thrift store for persons 55
  and up. (Must show valid picture ID.)
X-WR-RELCALID:e5cf8e0879185731002b92c9a17c9db6
X-WR-TIMEZONE:America/Chicago
BEGIN:VTIMEZONE
TZID:America/Chicago
BEGIN:STANDARD
TZNAME:CST
DTSTART:20281105T020000
TZOFFSETFROM:-0500
TZOFFSETTO:-0600
RDATE:20291104T020000
RDATE:20301103T020000
END:STANDARD
BEGIN:DAYLIGHT
TZNAME:CDT
DTSTART:20290311T020000
TZOFFSETFROM:-0600
TZOFFSETTO:-0500
RDATE:20300310T020000
END:DAYLIGHT
END:VTIMEZONE
BEGIN:VEVENT
UID:e39a7c44-e1f9-4734-af8d-4223bb06b803
DTSTAMP:20260421T142406Z
DESCRIPTION:10% off purchases in the Care Help Thrift store for persons 55 
 and up. (Must show valid picture ID.)
DTSTART;TZID=America/Chicago:20290719T100000
DTEND;TZID=America/Chicago:20290719T170000
LOCATION:200 N. Huntington\, Sulphur\, LA 70663 US
SUMMARY:Senior Citizen's Day 10% off
END:VEVENT
END:VCALENDAR
