BEGIN:VCALENDAR
VERSION:2.0
PRODID:-//care-help.org//NONSGML kigkonsult.se iCalcreator 2.30.10//
CALSCALE:GREGORIAN
METHOD:PUBLISH
UID:b2d253b4-31d7-4c07-96f5-a447f09b301c
X-WR-CALDESC:10% off purchases in the Care Help Thrift store for persons 55
  and up. (Must show valid picture ID.)
X-WR-RELCALID:13754a69a9ba09b52fc29efac87ff6a8
X-WR-TIMEZONE:America/Chicago
BEGIN:VTIMEZONE
TZID:America/Chicago
BEGIN:STANDARD
TZNAME:CST
DTSTART:20281105T020000
TZOFFSETFROM:-0500
TZOFFSETTO:-0600
RDATE:20291104T020000
RDATE:20301103T020000
END:STANDARD
BEGIN:DAYLIGHT
TZNAME:CDT
DTSTART:20290311T020000
TZOFFSETFROM:-0600
TZOFFSETTO:-0500
RDATE:20300310T020000
RDATE:20310309T020000
END:DAYLIGHT
END:VTIMEZONE
BEGIN:VEVENT
UID:907377bc-b6ac-4b9d-9d7a-e9d54f4bb1fa
DTSTAMP:20260421T191758Z
DESCRIPTION:10% off purchases in the Care Help Thrift store for persons 55 
 and up. (Must show valid picture ID.)
DTSTART;TZID=America/Chicago:20291018T100000
DTEND;TZID=America/Chicago:20291018T170000
LOCATION:200 N. Huntington\, Sulphur\, LA 70663 US
SUMMARY:Senior Citizen's Day 10% off
END:VEVENT
END:VCALENDAR
