BEGIN:VCALENDAR
VERSION:2.0
PRODID:-//care-help.org//NONSGML kigkonsult.se iCalcreator 2.30.10//
CALSCALE:GREGORIAN
METHOD:PUBLISH
UID:7fe9ddb1-2d71-4b42-af30-4bca5ddcd2f6
X-WR-CALDESC:10% off purchases in the Care Help Thrift store for persons 55
  and up. (Must show valid picture ID.)
X-WR-RELCALID:5cbcc11c4f218b2b07b2cfdf0e64c901
X-WR-TIMEZONE:America/Chicago
BEGIN:VTIMEZONE
TZID:America/Chicago
BEGIN:STANDARD
TZNAME:CST
DTSTART:20291104T020000
TZOFFSETFROM:-0500
TZOFFSETTO:-0600
RDATE:20301103T020000
END:STANDARD
BEGIN:DAYLIGHT
TZNAME:CDT
DTSTART:20300310T020000
TZOFFSETFROM:-0600
TZOFFSETTO:-0500
RDATE:20310309T020000
END:DAYLIGHT
END:VTIMEZONE
BEGIN:VEVENT
UID:d6b10dee-d083-498f-a15d-ab16be0e3eaf
DTSTAMP:20260422T030718Z
DESCRIPTION:10% off purchases in the Care Help Thrift store for persons 55 
 and up. (Must show valid picture ID.)
DTSTART;TZID=America/Chicago:20300314T100000
DTEND;TZID=America/Chicago:20300314T170000
LOCATION:200 N. Huntington\, Sulphur\, LA 70663 US
SUMMARY:Senior Citizen's Day 10% off
END:VEVENT
END:VCALENDAR
