BEGIN:VCALENDAR
VERSION:2.0
PRODID:-//care-help.org//NONSGML kigkonsult.se iCalcreator 2.30.10//
CALSCALE:GREGORIAN
METHOD:PUBLISH
UID:38702cf1-dbae-43d2-85b4-487cb6caec06
X-WR-CALDESC:10% off purchases in the Care Help Thrift store for persons 55
  and up. (Must show valid picture ID.)
X-WR-RELCALID:93cf612360e54cf41b1b354f236c9d7b
X-WR-TIMEZONE:America/Chicago
BEGIN:VTIMEZONE
TZID:America/Chicago
BEGIN:STANDARD
TZNAME:CST
DTSTART:20291104T020000
TZOFFSETFROM:-0500
TZOFFSETTO:-0600
RDATE:20301103T020000
RDATE:20311102T020000
END:STANDARD
BEGIN:DAYLIGHT
TZNAME:CDT
DTSTART:20300310T020000
TZOFFSETFROM:-0600
TZOFFSETTO:-0500
RDATE:20310309T020000
END:DAYLIGHT
END:VTIMEZONE
BEGIN:VEVENT
UID:e60dfb0f-1928-4bf4-943d-6599d94561a2
DTSTAMP:20260422T133018Z
DESCRIPTION:10% off purchases in the Care Help Thrift store for persons 55 
 and up. (Must show valid picture ID.)
DTSTART;TZID=America/Chicago:20300905T100000
DTEND;TZID=America/Chicago:20300905T170000
LOCATION:200 N. Huntington\, Sulphur\, LA 70663 US
SUMMARY:Senior Citizen's Day 10% off
END:VEVENT
END:VCALENDAR
